BEGIN:VCALENDAR
VERSION:2.0
PRODID:-//eventon.com NONSGML v1.0//EN
CALSCALE:GREGORIAN
METHOD:PUBLISH
BEGIN:VEVENT
UID:69e4e77d80c5c
DTSTAMP:20260419T143229Z
DTSTART:20271012T160000Z
DTEND:20271012T180000Z
LOCATION:Minneapolis American Indian Center 1530 E. Franklin Avenue
SUMMARY:Congregate Dining
DESCRIPTION:Congregate Dining is a daily lunch available to community elder
 s through the Native Elder Support Team (NEST) program. It includes a free 
 meal and space to be in community. Congregate Dining is available Monday th
 rough Friday from 11:00 a.m. – 1:00 p.m. Lunch is served at 11:30 a.m. in
  Niibi[..]\nhttps://www.maicnet.org/news-stories/events/congregate-dining-6
 /var/ri-430.l-L1
URL:https://www.maicnet.org/news-stories/events/congregate-dining-6/var/ri-430.l-L1
END:VEVENT
END:VCALENDAR