BEGIN:VCALENDAR
VERSION:2.0
PRODID:-//eventon.com NONSGML v1.0//EN
CALSCALE:GREGORIAN
METHOD:PUBLISH
BEGIN:VEVENT
UID:69e961e13f1f3
DTSTAMP:20260423T000345Z
DTSTART:20250722T130000Z
DTEND:20250722T200000Z
LOCATION:Minneapolis American Indian Center 1530 E. Franklin Avenue
SUMMARY:Gatherings Cafe
DESCRIPTION:Gatherings Cafe is a breakfast and lunch cafe that provides acc
 essible\,  healthy\,  Indigenous food and knowledge to the community. It se
 rves fresh\,  locally grown foods that are prepared using innovation mixed 
 with ancestral knowledge. The cafe is open Monday through Friday from 8:00 
 a.m. &#8211; 3:00 p.m. Please see the[..]\nhttps://www.maicnet.org/news-sto
 ries/events/gatherings-cafe/var/ri-129.l-L1
URL:https://www.maicnet.org/news-stories/events/gatherings-cafe/var/ri-129.l-L1
END:VEVENT
END:VCALENDAR