BEGIN:VCALENDAR
VERSION:2.0
PRODID:-//eventon.com NONSGML v1.0//EN
CALSCALE:GREGORIAN
METHOD:PUBLISH
BEGIN:VEVENT
UID:69e73c4fbda3d
DTSTAMP:20260421T085855Z
DTSTART:20240716T210000Z
DTEND:20240717T000000Z
LOCATION:South High School Practice Field 3131 19th Avenue South
SUMMARY:Youth Field Day
DESCRIPTION:An evening of family-friendly fun geared towards getting youth 
 moving. Activities include lacrosse\,  relay games\,  and volleyball. There
  will be prizes for attendees. Food will be available from Steven D&#8217;s
  and Trickster Tacos food trucks. &nbsp; &nbsp;\nhttps://www.maicnet.org/ne
 ws-stories/events/youth-field-day/
URL:https://www.maicnet.org/news-stories/events/youth-field-day/
END:VEVENT
END:VCALENDAR