BEGIN:VCALENDAR
VERSION:2.0
PRODID:-//eventon.com NONSGML v1.0//EN
CALSCALE:GREGORIAN
METHOD:PUBLISH
BEGIN:VEVENT
UID:69e767afe6390
DTSTAMP:20260421T120359Z
DTSTART:20240807T230000Z
DTEND:20240808T000000Z
LOCATION:Owamni 420 S. 1st Street
SUMMARY:Four Winds Running Club
DESCRIPTION:The Four Winds Running Club\,  hosted by Native Fitness and Nut
 rition\,  is a safe space for the community to be outside and active togeth
 er. It is open to all skill levels &#8211; whether you&#8217;re a seasoned 
 runner or looking to start running and add more movement to your life. The[
 ..]\nhttps://www.maicnet.org/news-stories/events/four-winds-running-club/va
 r/ri-4.l-L1
URL:https://www.maicnet.org/news-stories/events/four-winds-running-club/var/ri-4.l-L1
END:VEVENT
END:VCALENDAR