BEGIN:VCALENDAR
VERSION:2.0
PRODID:-//eventon.com NONSGML v1.0//EN
CALSCALE:GREGORIAN
METHOD:PUBLISH
BEGIN:VEVENT
UID:69e924a51e12b
DTSTAMP:20260422T194229Z
DTSTART:20241128T140000Z
DTEND:20241128T230000Z
LOCATION:Minneapolis American Indian Center 1530 E. Franklin Avenue
SUMMARY:Center Closed
DESCRIPTION:The Minneapolis American Indian Center is closed on Thursday\, 
  November 28\,  2024\,  in observance of the Thanksgiving holiday. We are a
 lso closed that Friday and will resume normal operations on Monday\,  Decem
 ber 2.\nhttps://www.maicnet.org/news-stories/events/center-closed-10/
URL:https://www.maicnet.org/news-stories/events/center-closed-10/
END:VEVENT
END:VCALENDAR