BEGIN:VCALENDAR
VERSION:2.0
PRODID:-//eventon.com NONSGML v1.0//EN
CALSCALE:GREGORIAN
METHOD:PUBLISH
BEGIN:VEVENT
UID:69e6e3db202de
DTSTAMP:20260421T024131Z
DTSTART:20241014T130000Z
DTEND:20241014T220000Z
LOCATION:Minneapolis American Indian Center 1530 E. Franklin Avenue
SUMMARY:Center Closed
DESCRIPTION:The Minneapolis American Indian Center is closed on Monday\,  O
 ctober 14\,  2024\,  in observance of Indigenous Peoples&#8217; Day. We wil
 l resume normal operations on Tuesday\,  October 15.\nhttps://www.maicnet.o
 rg/news-stories/events/center-closed-8/
URL:https://www.maicnet.org/news-stories/events/center-closed-8/
END:VEVENT
END:VCALENDAR