BEGIN:VCALENDAR
VERSION:2.0
PRODID:-//eventon.com NONSGML v1.0//EN
CALSCALE:GREGORIAN
METHOD:PUBLISH
BEGIN:VEVENT
UID:69e6046e7e52a
DTSTAMP:20260420T104814Z
DTSTART:20240619T130000Z
DTEND:20240619T220000Z
LOCATION:Minneapolis American Indian Center 1530 E. Franklin Avenue
SUMMARY:Center Closed
DESCRIPTION:The Minneapolis American Indian Center is closed on Wednesday\,
   June 19\,  2024\,  in observance of Juneteenth. We will resume normal bus
 iness operations on Thursday\,  June 20.\nhttps://www.maicnet.org/news-stor
 ies/events/center-closed-4/
URL:https://www.maicnet.org/news-stories/events/center-closed-4/
END:VEVENT
END:VCALENDAR