BEGIN:VCALENDAR
VERSION:2.0
PRODID:-//eventon.com NONSGML v1.0//EN
CALSCALE:GREGORIAN
METHOD:PUBLISH
BEGIN:VEVENT
UID:69e6a317868b2
DTSTAMP:20260420T220511Z
DTSTART:20240527T130000Z
DTEND:20240527T220000Z
LOCATION:Minneapolis American Indian Center 1530 E. Franklin Avenue
SUMMARY:Center Closed
DESCRIPTION:The Minneapolis American Indian Center is closed on May 27\,  2
 024\,  in observance of Memorial Day. We will resume normal business hours 
 on Tuesday\,  May 28.\nhttps://www.maicnet.org/news-stories/events/center-c
 losed-3/
URL:https://www.maicnet.org/news-stories/events/center-closed-3/
END:VEVENT
END:VCALENDAR