BEGIN:VCALENDAR
VERSION:2.0
PRODID:-//eventon.com NONSGML v1.0//EN
CALSCALE:GREGORIAN
METHOD:PUBLISH
BEGIN:VEVENT
UID:69e73ad4a2197
DTSTAMP:20260421T085236Z
DTSTART:20240417T230000Z
DTEND:20240418T003000Z
LOCATION:Bdote Learning Center 3216 East 29th Street
SUMMARY:Drum and Dance
DESCRIPTION:Join the Culture Language Arts Network for our weekly Drum and 
 Dance\,  an opportunity to sing\,  dance\,  and drum in community. The even
 ts are free and open to everyone. There is a raffle and prizes at the end o
 f the night. Anyone who signs in is eligible to win. Drum[..]\nhttps://www.
 maicnet.org/news-stories/events/drum-and-dance-2-2/
URL:https://www.maicnet.org/news-stories/events/drum-and-dance-2-2/
END:VEVENT
END:VCALENDAR