BEGIN:VCALENDAR
VERSION:2.0
PRODID:-//eventon.com NONSGML v1.0//EN
CALSCALE:GREGORIAN
METHOD:PUBLISH
BEGIN:VEVENT
UID:69e878e96722d
DTSTAMP:20260422T072945Z
DTSTART:20240410T230000Z
DTEND:20240411T003000Z
LOCATION:Bdote Learning Center 3216 East 29th Street
SUMMARY:Drum and Dance
DESCRIPTION:Join the Culture Language Arts Network for our weekly Drum and 
 Dance\,  an opportunity to sing\,  dance\,  and drum in community. The even
 ts are free and open to everyone. There is a raffle and prizes at the end o
 f the night. Anyone who signs in is eligible to win. Drum[..]\nhttps://www.
 maicnet.org/news-stories/events/drum-and-dance-copy/
URL:https://www.maicnet.org/news-stories/events/drum-and-dance-copy/
END:VEVENT
END:VCALENDAR