BEGIN:VCALENDAR
VERSION:2.0
PRODID:-//eventon.com NONSGML v1.0//EN
CALSCALE:GREGORIAN
METHOD:PUBLISH
BEGIN:VEVENT
UID:69e738604a401
DTSTAMP:20260421T084208Z
DTSTART:20240508T230000Z
DTEND:20240509T003000Z
LOCATION:Minneapolis American Indian Center 1530 E. Franklin Avenue
SUMMARY:Drum and Dance
DESCRIPTION:Join the Culture Language Arts Network for our weekly Drum and 
 Dance\,  an opportunity to sing\,  dance\,  and drum in community. The even
 ts are free and open to everyone. There is a raffle and prizes at the end o
 f the night. Anyone who signs in is eligible to win. A[..]\nhttps://www.mai
 cnet.org/news-stories/events/drum-and-dance-2/
URL:https://www.maicnet.org/news-stories/events/drum-and-dance-2/
END:VEVENT
END:VCALENDAR